BEGIN:VCALENDAR
VERSION:2.0
PRODID:-//wp-events-plugin.com//7.2.3.1//EN
BEGIN:VEVENT
UID:42@kraeuterfeetina.de
DTSTART;TZID=Europe/Berlin:20170408T100000
DTEND;TZID=Europe/Berlin:20170408T123000
DTSTAMP:20170318T110715Z
URL:https://www.kraeuterfeetina.de/events/wildkraeuterfuehrung-april-2017-
 loewenzahn/
SUMMARY:Wildkräuterführung April 2017 (Löwenzahn)
DESCRIPTION:Löwenzahn &amp\; Co.\nAm Sonnabend\, den 08.04.2017 von 10:00h
  - ca. 12:30h\, findet die zweite&nbsp\;Wildkräuterführung in 2017 statt
 .&nbsp\;In diesem Jahr möchte ich Euch die „Heilkräfte der Natur“ vo
 rstellen. Geht mit mir in einer kleinen Gruppe von max. 12 Personen auf ei
 ne spannende Exkursion in Falkensee oder Umgebung und sammelt mit mir geme
 insam aktuell wachsende Wildpflanzen. Wie auch bei meinen anderen Wildkrä
 uterführungen gibt es wieder viel zu entdecken und zu sammeln. Wir werden
  Pflanzen sammeln und verarbeiten z.B. Tinkturen\, Heilöle\, Liköre. Als
 o Körbchen\, Kräuterschere&nbsp\; und ggf. ein Gefäß nicht vergessen. 
 Eine Lupe wäre auch von Vorteil\, so dass ich Euch die Details der einzel
 nen Pflanzen zeigen und erläutern kann.\n\nAuf vielfachen Wunsch meiner T
 eilnehmer habe ich die Exkursionen um eine ½ Stunde verlängert. Pro Pers
 on wird ein Unkostenbeitrag von 14\,00 Euro erhoben.&nbsp\;Um eine Anmeldu
 ng über diese WEB Seite (weiter unten) oder eine telefonische Anmeldung (
 03322 426639) wird unbedingt gebeten.\n\nIch freue mich auf Dich / Sie.\nE
 s grüßt Dich / Euch die Kräuterfee Tina (Kräuterpädagogin)\n&nbsp\;\n
 \nTreffpunkt:&nbsp\;&nbsp\;Triftstraße /Ecke Rohrbecker Damm \, 14624 Dal
 lgow-Döberitz&nbsp\; &nbsp\;(Achtung!! Die Treffpunkte bei den einzelnen 
 Wildkräuterführungen variieren\, sind aber&nbsp\;alle in Falkensee und U
 mgebung)\n\nP.S.: &nbsp\;Bei all meinen Veranstaltungen ist eine (dem Wett
 er) angepasste Kleidung\, festes Schuhwerk und Beinschutz ratsam\, weil di
 e Exkursion bei jedem Wetter stattfindet und auch manchmal in ein unwegsam
 es Gelände führt.\n\n&nbsp\;\n\nWeitere Termine in 2017 .... jeweils von
  10:00Uhr - 12:30Uhr:\n\n 	06. Mai 2017\n 	10. Juni 2017\n 	01. Juli 2017\
 n 	02. September 2017\n 	07. Oktober 2017\n\nWeitere Wildkräuterführunge
 n sind auf Anfrage&nbsp\;möglich.
CATEGORIES:Gesundheit,Kräuterführung,Kräuterwanderung,Natur,Sammeln,Woh
 lbefinden
LOCATION:Rohrbecker Damm 82 - Ecke Triftstraße (Dallgow-Döberitz)\, Rohrb
 ecker Damm 82\, Dallgow-Döberitz\, Brandenburg\, 14624\, Deutschland
GEO:52.548307;13.038706
X-APPLE-STRUCTURED-LOCATION;VALUE=URI;X-ADDRESS=Rohrbecker Damm 82\, Dallgo
 w-Döberitz\, Brandenburg\, 14624\, Deutschland;X-APPLE-RADIUS=100;X-TITLE
 =Rohrbecker Damm 82 - Ecke Triftstraße (Dallgow-Döberitz):geo:52.548307,
 13.038706
END:VEVENT
BEGIN:VTIMEZONE
TZID:Europe/Berlin
X-LIC-LOCATION:Europe/Berlin
BEGIN:DAYLIGHT
DTSTART:20170326T030000
TZOFFSETFROM:+0100
TZOFFSETTO:+0200
TZNAME:CEST
END:DAYLIGHT
END:VTIMEZONE
END:VCALENDAR