BEGIN:VCALENDAR
VERSION:2.0
PRODID:-//wp-events-plugin.com//7.2.3.1//EN
BEGIN:VEVENT
UID:85@kraeuterfeetina.de
DTSTART;TZID=Europe/Berlin:20200919T100000
DTEND;TZID=Europe/Berlin:20200919T123000
DTSTAMP:20200811T182819Z
URL:https://www.kraeuterfeetina.de/events/wildkraeuterfuehrung-der-goldene
 -herbst-gewuerzlikoer-september-2020/
SUMMARY:Wildkräuterführung: Der goldene Herbst - Gewürzlikör (September
  2020)
DESCRIPTION:Die Natur erleben – sehen – fühlen - riechen - schmecken\n
 \nIm Herbst zieht sich die Natur zurück und bereitet sich auf den Winters
 chlaf vor. Wildfrüchte und Wurzeln sind vollgepumpt mit wertvollen Inhalt
 sstoffen. Wir sammeln Wildfrüchte\, die letzten Wildpflanzen und Wurzeln.
 \n\nAm Samstag\, den 19. September 2020 findet in der Zeit von 10:00 Uhr b
 is 12:30 Uhr eine Wildkräuterführung statt. Lernt mit mir die wertvollen
  Wildpflanzen unserer Region kennen. Entdecke die Delikatessen vom Wegesra
 nd\, natürliche Heilmittel\, sowie außergewöhnliche Haushaltsanwendunge
 n – es wird wieder spannend. In kleinen Gruppen von max. 12 Personen erk
 unden wir die Schätze der Natur in und um Falkensee. Wir werden Pflanzen 
 sammeln und gleich verarbeiten.\n\nBitte mitbringen: Körbchen oder Stofft
 asche\, Schere und ein leeres Marmeladenglas (Größe 200ml) Eine Lupe wä
 re von Vorteil\, so dass ich Euch die Details der einzelnen Pflanzen zeige
 n und erläutern kann.\n\nUnkostenbeitrag pro Person 15\,-€ - Kinder (12
  Jahre bis 16 Jahre) 7\,-€. Um eine Anmeldung über diese WEB Seite (sie
 he weiter unten) oder eine telefonische Abmeldung (03322 426639) wird unbe
 dingt gebeten.\n\n(Achtung !!! Wildkräuter wachsen an unterschiedlichen O
 rten\, deshalb können die Treffpunkte bei den einzelnen Exkursionen varii
 eren\, sind aber alle in Falkensee und Umgebung)\n\nBei all meinen Veranst
 altungen ist eine (dem Wetter) angepasste Kleidung\, festes Schuhwerk und 
 Beinschutz ratsam\, weil die Exkursion bei jedem Wetter stattfindet und au
 ch manchmal durch unwegsames Gelände führt.\n\nTreffpunkt: Dyrotzer Weg 
 / Ecke Pappelweg\, Wustermark&nbsp\;(anzeigen)\n\nIch freue mich auf Dich 
 / Euch\n\nEs grüßt Dich / Euch die Kräuterfee Tina (Martina Bauer)\n\n&
 nbsp\;\n\nWeitere Termine in 2020:\n\n 	\n\n 	\n\n 	Sonntag\, 18.Oktober 2
 020\n\n\n\n\n\n&nbsp\;\n\nWeitere Wildkräuterführungen sind auf Anfrage&
 nbsp\;möglich.
ATTACH;FMTTYPE=image/jpeg:https://www.kraeuterfeetina.de/wp-content/upload
 s/2018/01/KräuterFrühling-e1516383615826.png
CATEGORIES:Gesundheit,Kräuterführung,Kräuterwanderung,Natur,Sammeln,Woh
 lbefinden
LOCATION:Dyrotz-Luch (Falkensee)\, Dyrotzer Weg / Ecke Pappelweg\, \, Falke
 nsee\, Deutschland\, 14612\, Deutschland
GEO:52.559587;12.996457
X-APPLE-STRUCTURED-LOCATION;VALUE=URI;X-ADDRESS=Dyrotzer Weg / Ecke Pappelw
 eg\, \, Falkensee\, Deutschland\, 14612\, Deutschland;X-APPLE-RADIUS=100;X
 -TITLE=Dyrotz-Luch (Falkensee):geo:52.559587,12.996457
END:VEVENT
BEGIN:VTIMEZONE
TZID:Europe/Berlin
X-LIC-LOCATION:Europe/Berlin
BEGIN:DAYLIGHT
DTSTART:20200329T030000
TZOFFSETFROM:+0100
TZOFFSETTO:+0200
TZNAME:CEST
END:DAYLIGHT
END:VTIMEZONE
END:VCALENDAR