BEGIN:VCALENDAR
VERSION:2.0
PRODID:-//wp-events-plugin.com//7.2.3.1//EN
BEGIN:VEVENT
UID:87@kraeuterfeetina.de
DTSTART;TZID=Europe/Berlin:20200425T100000
DTEND;TZID=Europe/Berlin:20200425T123000
DTSTAMP:20200126T173650Z
URL:https://www.kraeuterfeetina.de/events/wildkraeuterfuehrung-die-kraft-d
 es-fruehlings-april-2020/
SUMMARY:Wildkräuterführung: Kraft des Frühlings (April 2020)
DESCRIPTION:Die Natur erleben – sehen – fühlen - riechen - schmecken\n
 \nEine wildpflanzenreiche Ernährung\, entgiftet den Körper und unterstü
 tzt beim Prozess des Entschlackens. Der Körper schmeißt Ballast ab und g
 ewinnt neue Energie.\n\nAm Sonnabend\, den 25.04.2020 findet in der Zeit v
 on 10:00 Uhr bis 12:30 Uhr eine Wildkräuterführung statt. Lernt mit mir 
 die wertvollen Wildpflanzen unserer Region kennen. Entdecke die Delikatess
 en vom Wegesrand\, natürliche Heilmittel\, sowie außergewöhnliche Haush
 altsanwendungen – es wird wieder spannend. In kleinen Gruppen von max. 1
 2 Personen erkunden wir die Schätze der Natur in und um Falkensee. Wir we
 rden Pflanzen sammeln und gleich verarbeiten.\n\nBitte mitbringen: Körbch
 en oder Stofftasche\, Schere und ein leeres Marmeladenglas (Größe 200ml)
  Eine Lupe wäre von Vorteil\, so dass ich Euch die Details der einzelnen 
 Pflanzen zeigen und erläutern kann.\n\nUnkostenbeitrag pro Person 15\,-
 € - Kinder (12 Jahre bis 16 Jahre) 7\,-€. Um eine Anmeldung über dies
 e WEB Seite (siehe weiter unten) oder eine telefonische Abmeldung (03322 4
 26639) wird unbedingt gebeten.\n\n(Achtung !!! Wildkräuter wachsen an unt
 erschiedlichen Orten\, deshalb können die Treffpunkte bei den einzelnen E
 xkursionen variieren\, sind aber alle in Falkensee und Umgebung)\n\nBei al
 l meinen Veranstaltungen ist eine (dem Wetter) angepasste Kleidung\, feste
 s Schuhwerk und Beinschutz ratsam\, weil die Exkursion bei jedem Wetter st
 attfindet und auch manchmal durch unwegsames Gelände führt.\n\nTreffpunk
 t: Parkplatz gegenüber von Netto (schwarz) – (fürs Navi Finkenkruger S
 tr. – um den Kreisverkehr 3. Ausfahrt)\, Brieselang (anzeigen)\n\nIch fr
 eue mich auf Dich / Euch\n\nEs grüßt Dich / Euch die Kräuterfee Tina (M
 artina Bauer)\n\n&nbsp\;\n\nWeitere Termine in 2020:\n\n 	\n\n 	\n\n 	Sonn
 abend\, 13.Juni 2020\n 	Sonntag\, 05.Juli 2020\n 	Sonntag\, 09.August 2020
 \n 	Sonnabend\, 19.September 2020\n 	Sonntag\, 18.Oktober 2020\n\n\n\n\n\n
 &nbsp\;\n\nWeitere Wildkräuterführungen sind auf Anfrage&nbsp\;möglich.
ATTACH;FMTTYPE=image/jpeg:https://www.kraeuterfeetina.de/wp-content/upload
 s/2018/01/KräuterFrühling-e1516383615826.png
CATEGORIES:Gesundheit,Kräuterführung,Kräuterwanderung,Natur,Sammeln,Woh
 lbefinden
LOCATION:Parkplatz Brieselang (gegenüber NETTO schwarz)\, Finkenkruger Str
 asse (Parkplatz gegenüber NETTO schwarz)\, Brieselang\, Havelland\, Deuts
 chland
X-APPLE-STRUCTURED-LOCATION;VALUE=URI;X-ADDRESS=Finkenkruger Strasse (Parkp
 latz gegenüber NETTO schwarz)\, Brieselang\, Havelland\, Deutschland;X-AP
 PLE-RADIUS=100;X-TITLE=Parkplatz Brieselang (gegenüber NETTO schwarz):geo
 :0,0
END:VEVENT
BEGIN:VTIMEZONE
TZID:Europe/Berlin
X-LIC-LOCATION:Europe/Berlin
BEGIN:DAYLIGHT
DTSTART:20200329T030000
TZOFFSETFROM:+0100
TZOFFSETTO:+0200
TZNAME:CEST
END:DAYLIGHT
END:VTIMEZONE
END:VCALENDAR