BEGIN:VCALENDAR
VERSION:2.0
PRODID:-//wp-events-plugin.com//7.2.3.1//EN
BEGIN:VEVENT
UID:45@kraeuterfeetina.de
DTSTART;TZID=Europe/Berlin:20170708T100000
DTEND;TZID=Europe/Berlin:20170708T123000
DTSTAMP:20170627T204234Z
URL:https://www.kraeuterfeetina.de/events/wildkraeuterfuehrung-juli-2017-j
 ohanniskraut/
SUMMARY:Wildkräuterführung Juli 2017 (Johanniskraut)
DESCRIPTION:Johanniskraut\nAm Sonnabend\, den 01.07.2017 von 10:00h - ca. 1
 2:30h\, findet die nächste&nbsp\;Wildkräuterführung in 2017 statt.&nbsp
 \;In diesem Jahr stelle ich Euch die „Heilkräfte der Natur“ vor. Geht
  mit mir in einer kleinen Gruppe von max. 12 Personen auf eine spannende E
 xkursion in Falkensee oder Umgebung und sammelt mit mir gemeinsam aktuell 
 wachsende Wildpflanzen. Wie auch bei meinen anderen Wildkräuterführungen
  gibt es wieder viel zu entdecken und zu sammeln. Wir werden Pflanzen samm
 eln und verarbeiten z.B. Tinkturen\, Heilöle\, Liköre. Also Körbchen\, 
 Kräuterschere&nbsp\; und ggf. ein Gefäß nicht vergessen. Eine Lupe wär
 e auch von Vorteil\, so dass ich Euch die Details der einzelnen Pflanzen z
 eigen und erläutern kann.\n\nAuf vielfachen Wunsch meiner Teilnehmer habe
  ich die Exkursionen um eine ½ Stunde verlängert. Pro Person wird ein Un
 kostenbeitrag von 14\,00 Euro erhoben.&nbsp\;Um eine Anmeldung über diese
  WEB Seite (weiter unten) oder eine telefonische Anmeldung (03322 426639) 
 wird unbedingt gebeten.\n\nIch freue mich auf Dich / Sie.\nEs grüßt Dich
  / Euch die Kräuterfee Tina (Kräuterpädagogin)\n&nbsp\;\n\nTreffpunkt:&
 nbsp\;&nbsp\;Trafo-Haus am &nbsp\;Poetenweg gegenüber von Hexenhaus\, 146
 12 Falkensee &nbsp\;&nbsp\; (Achtung!! Die Treffpunkte bei den einzelnen W
 ildkräuterführungen variieren\, sind aber&nbsp\;alle in Falkensee und Um
 gebung)\n\nP.S.: &nbsp\;Bei all meinen Veranstaltungen ist eine (dem Wette
 r) angepasste Kleidung\, festes Schuhwerk und Beinschutz ratsam\, weil die
  Exkursion bei jedem Wetter stattfindet und auch manchmal in ein unwegsame
 s Gelände führt.\n\n&nbsp\;\n\nWeitere Termine in 2017 .... jeweils von 
 10:00Uhr - 12:30Uhr:\n\n 	02. September 2017\n 	07. Oktober 2017\n\nWeiter
 e Wildkräuterführungen sind auf Anfrage&nbsp\;möglich.
CATEGORIES:Gesundheit,Kräuterführung,Kräuterwanderung,Natur,Sammeln,Woh
 lbefinden
LOCATION:Trafostation Hexenhaus (Falkensee Finkenkrug)\, Poetenweg 95\, Fal
 kensee\, Brandenburg\, 14612\, Havelland\, Deutschland
GEO:52.556072;13.047592
X-APPLE-STRUCTURED-LOCATION;VALUE=URI;X-ADDRESS=Poetenweg 95\, Falkensee\, 
 Brandenburg\, 14612\, Havelland\, Deutschland;X-APPLE-RADIUS=100;X-TITLE=T
 rafostation Hexenhaus (Falkensee Finkenkrug):geo:52.556072,13.047592
END:VEVENT
BEGIN:VTIMEZONE
TZID:Europe/Berlin
X-LIC-LOCATION:Europe/Berlin
BEGIN:DAYLIGHT
DTSTART:20170326T030000
TZOFFSETFROM:+0100
TZOFFSETTO:+0200
TZNAME:CEST
END:DAYLIGHT
END:VTIMEZONE
END:VCALENDAR