BEGIN:VCALENDAR
VERSION:2.0
PRODID:-//wp-events-plugin.com//7.2.3.1//EN
BEGIN:VEVENT
UID:44@kraeuterfeetina.de
DTSTART;TZID=Europe/Berlin:20170610T100000
DTEND;TZID=Europe/Berlin:20170610T123000
DTSTAMP:20170417T161716Z
URL:https://www.kraeuterfeetina.de/events/wildkraeuterfuehrung-juni-2017-l
 inde/
SUMMARY:Wildkräuterführung Juni 2017 (Linde)
DESCRIPTION:Linde\nAm Sonnabend\, den 10.06.2017 von 10:00h - ca. 12:30h\, 
 findet die nächste&nbsp\;Wildkräuterführung in 2017 statt.&nbsp\;In die
 sem Jahr stelle ich Euch die „Heilkräfte der Natur“ vor. Geht mit mir
  in einer kleinen Gruppe von max. 12 Personen auf eine spannende Exkursion
  in Falkensee oder Umgebung und sammelt mit mir gemeinsam aktuell wachsend
 e Wildpflanzen. Wie auch bei meinen anderen Wildkräuterführungen gibt es
  wieder viel zu entdecken und zu sammeln. Wir werden Pflanzen sammeln und 
 verarbeiten z.B. Tinkturen\, Heilöle\, Liköre. Also Körbchen\, Kräuter
 schere&nbsp\; und ggf. ein Gefäß nicht vergessen. Eine Lupe wäre auch v
 on Vorteil\, so dass ich Euch die Details der einzelnen Pflanzen zeigen un
 d erläutern kann.\n\nAuf vielfachen Wunsch meiner Teilnehmer habe ich die
  Exkursionen um eine ½ Stunde verlängert. Pro Person wird ein Unkostenbe
 itrag von 14\,00 Euro erhoben.&nbsp\;Um eine Anmeldung über diese WEB Sei
 te (weiter unten) oder eine telefonische Anmeldung (03322 426639) wird unb
 edingt gebeten.\n\nIch freue mich auf Dich / Sie.\nEs grüßt Dich / Euch 
 die Kräuterfee Tina (Kräuterpädagogin)\n&nbsp\;\n\nTreffpunkt:&nbsp\;&n
 bsp\;Triftstraße /Ecke Rohrbecker Damm \, 14624 Dallgow-Döberitz&nbsp\; 
 &nbsp\;(Achtung!! Die Treffpunkte bei den einzelnen Wildkräuterführungen
  variieren\, sind aber&nbsp\;alle in Falkensee und Umgebung)\n\nP.S.: &nbs
 p\;Bei all meinen Veranstaltungen ist eine (dem Wetter) angepasste Kleidun
 g\, festes Schuhwerk und Beinschutz ratsam\, weil die Exkursion bei jedem 
 Wetter stattfindet und auch manchmal in ein unwegsames Gelände führt.\n\
 n&nbsp\;\n\nWeitere Termine in 2017 .... jeweils von 10:00Uhr - 12:30Uhr:\
 n\n 	01. Juli 2017\n 	02. September 2017\n 	07. Oktober 2017\n\nWeitere Wi
 ldkräuterführungen sind auf Anfrage&nbsp\;möglich.
CATEGORIES:Gesundheit,Kräuterführung,Kräuterwanderung,Natur,Sammeln,Woh
 lbefinden
LOCATION:Rohrbecker Damm 82 - Ecke Triftstraße (Dallgow-Döberitz)\, Rohrb
 ecker Damm 82\, Dallgow-Döberitz\, Brandenburg\, 14624\, Deutschland
GEO:52.548307;13.038706
X-APPLE-STRUCTURED-LOCATION;VALUE=URI;X-ADDRESS=Rohrbecker Damm 82\, Dallgo
 w-Döberitz\, Brandenburg\, 14624\, Deutschland;X-APPLE-RADIUS=100;X-TITLE
 =Rohrbecker Damm 82 - Ecke Triftstraße (Dallgow-Döberitz):geo:52.548307,
 13.038706
END:VEVENT
BEGIN:VTIMEZONE
TZID:Europe/Berlin
X-LIC-LOCATION:Europe/Berlin
BEGIN:DAYLIGHT
DTSTART:20170326T030000
TZOFFSETFROM:+0100
TZOFFSETTO:+0200
TZNAME:CEST
END:DAYLIGHT
END:VTIMEZONE
END:VCALENDAR