BEGIN:VCALENDAR
VERSION:2.0
PRODID:-//wp-events-plugin.com//7.2.3.1//EN
BEGIN:VEVENT
UID:46@kraeuterfeetina.de
DTSTART;TZID=Europe/Berlin:20171007T100000
DTEND;TZID=Europe/Berlin:20171007T123000
DTSTAMP:20170910T202137Z
URL:https://www.kraeuterfeetina.de/events/wildkraeuterfuehrung-juseptember
 -2017-weissdorn/
SUMMARY:Wildkräuterführung Oktober 2017 (Schlehen)
DESCRIPTION:Schlehen\nAm Sonnabend\, den 07.10.2017 von 10:00h - ca. 12:30h
 \, findet die nächste&nbsp\;Wildkräuterführung in 2017 statt.&nbsp\;In 
 diesem Jahr stelle ich Euch die „Heilkräfte der Natur“ vor. Geht mit 
 mir in einer kleinen Gruppe von max. 12 Personen auf eine spannende Exkurs
 ion in Falkensee oder Umgebung und sammelt mit mir gemeinsam aktuell wachs
 ende Wildpflanzen. Wie auch bei meinen anderen Wildkräuterführungen gibt
  es wieder viel zu entdecken und zu sammeln. Wir werden Pflanzen sammeln u
 nd verarbeiten z.B. Tinkturen\, Heilöle\, Liköre. Also Körbchen\, Kräu
 terschere&nbsp\; und ggf. ein Gefäß nicht vergessen. Eine Lupe wäre auc
 h von Vorteil\, so dass ich Euch die Details der einzelnen Pflanzen zeigen
  und erläutern kann.\n\nAuf vielfachen Wunsch meiner Teilnehmer habe ich 
 die Exkursionen um eine ½ Stunde verlängert. Pro Person wird ein Unkoste
 nbeitrag von 14\,00 Euro erhoben.&nbsp\;Um eine Anmeldung über diese WEB 
 Seite (weiter unten) oder eine telefonische Anmeldung (03322 426639) wird 
 unbedingt gebeten.\n\nIch freue mich auf Dich / Sie.\nEs grüßt Dich / Eu
 ch die Kräuterfee Tina (Kräuterpädagogin)\n&nbsp\;\n\nTreffpunkt:&nbsp\
 ;&nbsp\;Trafo-Haus am &nbsp\;Poetenweg gegenüber von Hexenhaus\, 14612 Fa
 lkensee &nbsp\;&nbsp\; (Achtung!! Die Treffpunkte bei den einzelnen Wildkr
 äuterführungen variieren\, sind aber&nbsp\;alle in Falkensee und Umgebun
 g)\n\nP.S.: &nbsp\;Bei all meinen Veranstaltungen ist eine (dem Wetter) an
 gepasste Kleidung\, festes Schuhwerk und Beinschutz ratsam\, weil die Exku
 rsion bei jedem Wetter stattfindet und auch manchmal in ein unwegsames Gel
 ände führt.\n\n&nbsp\;\n\nWeitere Termine in 2017 .... jeweils von 10:00
 Uhr - 12:30Uhr:\n\n 	--- &nbsp\;(keine)\n\nWeitere Wildkräuterführungen 
 sind auf Anfrage&nbsp\;möglich.
CATEGORIES:Gesundheit,Kräuterführung,Kräuterwanderung,Natur,Sammeln,Woh
 lbefinden
LOCATION:Treffpunkt Hamburger Straße / Ecke Spandauer Straße\, 14612 Falk
 ensee (Nähe Netto)\, Hamburgerstraße 41\, Falkensee\, Brandenburg\, 1461
 2\, Deutschland
GEO:52.557868;13.135341
X-APPLE-STRUCTURED-LOCATION;VALUE=URI;X-ADDRESS=Hamburgerstraße 41\, Falke
 nsee\, Brandenburg\, 14612\, Deutschland;X-APPLE-RADIUS=100;X-TITLE=Treffp
 unkt Hamburger Straße / Ecke Spandauer Straße\, 14612 Falkensee (Nähe N
 etto):geo:52.557868,13.135341
END:VEVENT
BEGIN:VTIMEZONE
TZID:Europe/Berlin
X-LIC-LOCATION:Europe/Berlin
BEGIN:DAYLIGHT
DTSTART:20170326T030000
TZOFFSETFROM:+0100
TZOFFSETTO:+0200
TZNAME:CEST
END:DAYLIGHT
END:VTIMEZONE
END:VCALENDAR