BEGIN:VCALENDAR
VERSION:2.0
PRODID:-//wp-events-plugin.com//7.2.3.1//EN
BEGIN:VEVENT
UID:86@kraeuterfeetina.de
DTSTART;TZID=Europe/Berlin:20200314T100000
DTEND;TZID=Europe/Berlin:20200314T123000
DTSTAMP:20200126T144641Z
URL:https://www.kraeuterfeetina.de/events/wildkraeuterfuehrung-kraft-des-f
 ruehlings-maerz-2020/
SUMMARY:Wildkräuterführung: Kraft des Frühlings (März 2020)
DESCRIPTION:Die Natur erleben – sehen – fühlen - riechen - schmecken\n
 \nEine wildpflanzenreiche Ernährung\, entgiftet den Körper und unterstü
 tzt beim Prozess des Entschlackens. Der Körper schmeißt Ballast ab und g
 ewinnt neue Energie.\n\nAm Sonnabend\, den 14.03.2020 findet in der Zeit v
 on 10:00 Uhr bis 12:30 Uhr eine Wildkräuterführung statt. Lernt mit mir 
 die wertvollen Wildpflanzen unserer Region kennen. Entdecke die Delikatess
 en vom Wegesrand\, natürliche Heilmittel\, sowie außergewöhnliche Haush
 altsanwendungen – es wird wieder spannend. In kleinen Gruppen von max. 1
 2 Personen erkunden wir die Schätze der Natur in und um Falkensee. Wir we
 rden Pflanzen sammeln und gleich verarbeiten.\n\nBitte mitbringen: Körbch
 en oder Stofftasche\, Schere und ein leeres Marmeladenglas (Größe 200ml)
  Eine Lupe wäre von Vorteil\, so dass ich Euch die Details der einzelnen 
 Pflanzen zeigen und erläutern kann.\n\nUnkostenbeitrag pro Person 15\,-
 € - Kinder (12 Jahre bis 16 Jahre) 7\,-€. Um eine Anmeldung über dies
 e WEB Seite (siehe weiter unten) oder eine telefonische Abmeldung (03322 4
 26639) wird unbedingt gebeten.\n\n(Achtung !!! Wildkräuter wachsen an unt
 erschiedlichen Orten\, deshalb können die Treffpunkte bei den einzelnen E
 xkursionen variieren\, sind aber alle in Falkensee und Umgebung)\n\nBei al
 l meinen Veranstaltungen ist eine (dem Wetter) angepasste Kleidung\, feste
 s Schuhwerk und Beinschutz ratsam\, weil die Exkursion bei jedem Wetter st
 attfindet und auch manchmal durch unwegsames Gelände führt.\n\nTreffpunk
 t: Spielplatz FeuRi – Ringstraße / Ecke Feuerbachstraße\, 14612 Falken
 see (anzeigen)\n\nIch freue mich auf Dich / Euch\n\nEs grüßt Dich / Euch
  die Kräuterfee Tina (Martina Bauer)\n\n&nbsp\;\n\nWeitere Termine in 202
 0:\n\n 	\n\n 	\n\n 	Sonnabend\, 25.April 2020\n 	Sonnabend\, 13.Juni 2020\
 n 	Sonntag\, 05.Juli 2020\n 	Sonntag\, 09.August 2020\n 	Sonnabend\, 19.Se
 ptember 2020\n 	Sonntag\, 18.Oktober 2020\n\n\n\n\n\n&nbsp\;\n\nWeitere Wi
 ldkräuterführungen sind auf Anfrage&nbsp\;möglich.
ATTACH;FMTTYPE=image/jpeg:https://www.kraeuterfeetina.de/wp-content/upload
 s/2018/01/KräuterFrühling-e1516383615826.png
CATEGORIES:Gesundheit,Kräuterführung,Kräuterwanderung,Natur,Sammeln,Woh
 lbefinden
LOCATION:Feuri Spielplatz (Falkensee)\, Ringstraße 32\, Falkensee\, Brande
 nburg\, 14612\, Deutschland
GEO:52.56942;13.04404
X-APPLE-STRUCTURED-LOCATION;VALUE=URI;X-ADDRESS=Ringstraße 32\, Falkensee\
 , Brandenburg\, 14612\, Deutschland;X-APPLE-RADIUS=100;X-TITLE=Feuri Spiel
 platz (Falkensee):geo:52.56942,13.04404
END:VEVENT
BEGIN:VTIMEZONE
TZID:Europe/Berlin
X-LIC-LOCATION:Europe/Berlin
BEGIN:STANDARD
DTSTART:20191027T020000
TZOFFSETFROM:+0200
TZOFFSETTO:+0100
TZNAME:CET
END:STANDARD
END:VTIMEZONE
END:VCALENDAR