BEGIN:VCALENDAR
VERSION:2.0
PRODID:-//wp-events-plugin.com//7.2.3.1//EN
BEGIN:VEVENT
UID:41@kraeuterfeetina.de
DTSTART;TZID=Europe/Berlin:20170304T100000
DTEND;TZID=Europe/Berlin:20170304T123000
DTSTAMP:20170115T101254Z
URL:https://www.kraeuterfeetina.de/events/wildkraeuterfuehrung-maerz-2016-
 wiedergeburt-der-natur/
SUMMARY:Wildkräuterführung März 2017 (Wiedergeburt der Natur)
DESCRIPTION:Wiedergeburt der Natur\nAm Sonnabend\, den 04.03.2017 von 10:00
 h - ca. 12:30h\, findet die erste&nbsp\;Wildkräuterführung in 2017 statt
 .&nbsp\;Im diesen Jahr möchte ich Euch die „Heilkräfte der Natur“ vo
 rstellen. Geht mit mir in einer kleinen Gruppe von max. 12 Personen auf ei
 ne spannende Exkursion in Falkensee oder Umgebung und sammelt mit mir geme
 insam aktuell wachsende Wildpflanzen. Wie auch bei meinen anderen Wildkrä
 uterführungen gibt es wieder viel zu entdecken und zu sammeln. Wir werden
  Pflanzen sammeln und verarbeiten z.B. Tinkturen\, Heilöle\, Liköre. Als
 o Körbchen\, Kräuterschere&nbsp\; und ggf. ein Gefäß nicht vergessen. 
 Eine Lupe wäre auch von Vorteil\, so dass ich Euch die Details der einzel
 nen Pflanzen zeigen und erläutern kann.\n\nAuf vielfachen Wunsch meiner T
 eilnehmer habe ich die Exkursionen um eine ½ Stunde verlängert. Pro Pers
 on wird ein Unkostenbeitrag von 14\,00 Euro erhoben.&nbsp\;Um eine Anmeldu
 ng über diese WEB Seite (weiter unten) oder eine telefonische Anmeldung (
 03322 426639) wird unbedingt gebeten.\n\nIch freue mich auf Dich / Sie.\nE
 s grüßt Dich / Euch die Kräuterfee Tina (Kräuterpädagogin)\n&nbsp\;\n
 \nTreffpunkt:&nbsp\; Parkplatz gegenüber vom Kronprinz\, Friedrich-Engels
 -Allee 127\, 14612 Falkensee &nbsp\; (Achtung!! Die Treffpunkte bei den ei
 nzelnen Wildkräuterführungen variieren\, sind aber&nbsp\;alle in Falkens
 ee und Umgebung)\n\nP.S.: &nbsp\;Bei all meinen Veranstaltungen ist eine (
 dem Wetter) angepasste Kleidung\, festes Schuhwerk und Beinschutz ratsam\,
  weil die Exkursion bei jedem Wetter stattfindet und auch manchmal in ein 
 unwegsames Gelände führt.\n\n&nbsp\;\n\nWeitere Termine in 2017 .... jew
 eils von 10:00Uhr - 12:30Uhr:\n\n 	01. April 2017\n 	06. Mai 2017\n 	10. J
 uni 2017\n 	01. Juli 2017\n 	02. September 2017\n 	07. Oktober 2017\n\nWei
 tere Wildkräuterführungen sind auf Anfrage&nbsp\;möglich.
CATEGORIES:Gesundheit,Kräuterführung,Kräuterwanderung,Natur,Sammeln,Woh
 lbefinden
LOCATION:Hotel Kronprinz Parkplatz (Falkensee)\, Friedrich Engels-Allee 127
 \, Falkensee\, Brandenburg\, 14612\, Deutschland
GEO:52.576356;13.061356
X-APPLE-STRUCTURED-LOCATION;VALUE=URI;X-ADDRESS=Friedrich Engels-Allee 127\
 , Falkensee\, Brandenburg\, 14612\, Deutschland;X-APPLE-RADIUS=100;X-TITLE
 =Hotel Kronprinz Parkplatz (Falkensee):geo:52.576356,13.061356
END:VEVENT
BEGIN:VTIMEZONE
TZID:Europe/Berlin
X-LIC-LOCATION:Europe/Berlin
BEGIN:STANDARD
DTSTART:20161030T020000
TZOFFSETFROM:+0200
TZOFFSETTO:+0100
TZNAME:CET
END:STANDARD
END:VTIMEZONE
END:VCALENDAR