BEGIN:VCALENDAR
VERSION:2.0
PRODID:-//wp-events-plugin.com//7.2.3.1//EN
BEGIN:VEVENT
UID:43@kraeuterfeetina.de
DTSTART;TZID=Europe/Berlin:20170506T100000
DTEND;TZID=Europe/Berlin:20170506T123000
DTSTAMP:20170121T160404Z
URL:https://www.kraeuterfeetina.de/events/wildkraeuterfuehrung-mai-2017-gu
 ndermann/
SUMMARY:Wildkräuterführung Mai 2017 (Gundermann)
DESCRIPTION:Gundermann &amp\; Co.\nAm Sonnabend\, den 06.05.2017 von 10:00h
  - ca. 12:30h\, findet die nächste&nbsp\;Wildkräuterführung in 2017 sta
 tt.&nbsp\;In diesem Jahr stelle ich Euch die „Heilkräfte der Natur“ v
 or. Geht mit mir in einer kleinen Gruppe von max. 12 Personen auf eine spa
 nnende Exkursion in Falkensee oder Umgebung und sammelt mit mir gemeinsam 
 aktuell wachsende Wildpflanzen. Wie auch bei meinen anderen Wildkräuterf
 ührungen gibt es wieder viel zu entdecken und zu sammeln. Wir werden Pfla
 nzen sammeln und verarbeiten z.B. Tinkturen\, Heilöle\, Liköre. Also Kö
 rbchen\, Kräuterschere&nbsp\; und ggf. ein Gefäß nicht vergessen. Eine 
 Lupe wäre auch von Vorteil\, so dass ich Euch die Details der einzelnen P
 flanzen zeigen und erläutern kann.\n\nAuf vielfachen Wunsch meiner Teilne
 hmer habe ich die Exkursionen um eine ½ Stunde verlängert. Pro Person wi
 rd ein Unkostenbeitrag von 14\,00 Euro erhoben.&nbsp\;Um eine Anmeldung ü
 ber diese WEB Seite (weiter unten) oder eine telefonische Anmeldung (03322
  426639) wird unbedingt gebeten.\n\nIch freue mich auf Dich / Sie.\nEs gr
 üßt Dich / Euch die Kräuterfee Tina (Kräuterpädagogin)\n&nbsp\;\n\nTr
 effpunkt:&nbsp\;&nbsp\;Spielplatz „FeuRi“ Feuerbachstraße / Ecke Ring
 straße\, 14612 Falkensee &nbsp\;(Achtung!! Die Treffpunkte bei den einzel
 nen Wildkräuterführungen variieren\, sind aber&nbsp\;alle in Falkensee u
 nd Umgebung)\n\nP.S.: &nbsp\;Bei all meinen Veranstaltungen ist eine (dem 
 Wetter) angepasste Kleidung\, festes Schuhwerk und Beinschutz ratsam\, wei
 l die Exkursion bei jedem Wetter stattfindet und auch manchmal in ein unwe
 gsames Gelände führt.\n\n&nbsp\;\n\nWeitere Termine in 2017 .... jeweils
  von 10:00Uhr - 12:30Uhr:\n\n 	10. Juni 2017\n 	01. Juli 2017\n 	02. Septe
 mber 2017\n 	07. Oktober 2017\n\nWeitere Wildkräuterführungen sind auf A
 nfrage&nbsp\;möglich.
CATEGORIES:Gesundheit,Kräuterführung,Kräuterwanderung,Natur,Sammeln,Woh
 lbefinden
LOCATION:Feuri Spielplatz (Falkensee)\, Ringstraße 32\, Falkensee\, Brande
 nburg\, 14612\, Deutschland
GEO:52.56942;13.04404
X-APPLE-STRUCTURED-LOCATION;VALUE=URI;X-ADDRESS=Ringstraße 32\, Falkensee\
 , Brandenburg\, 14612\, Deutschland;X-APPLE-RADIUS=100;X-TITLE=Feuri Spiel
 platz (Falkensee):geo:52.56942,13.04404
END:VEVENT
BEGIN:VTIMEZONE
TZID:Europe/Berlin
X-LIC-LOCATION:Europe/Berlin
BEGIN:DAYLIGHT
DTSTART:20170326T030000
TZOFFSETFROM:+0100
TZOFFSETTO:+0200
TZNAME:CEST
END:DAYLIGHT
END:VTIMEZONE
END:VCALENDAR