BEGIN:VCALENDAR
VERSION:2.0
PRODID:-//wp-events-plugin.com//7.2.3.1//EN
BEGIN:VEVENT
UID:13@kraeuterfeetina.de
DTSTART;TZID=Europe/Berlin:20150912T100000
DTEND;TZID=Europe/Berlin:20150912T120000
DTSTAMP:20150907T195804Z
URL:https://www.kraeuterfeetina.de/events/wildkraeuterfuehrung-september-2
 015/
SUMMARY:Wildkräuterführung September 2015
DESCRIPTION:-- leider AUSGEBUCHT --\nAm Sonnabend\, den 12.09.2015 von 10:0
 0h - ca. 12:00h\, findet meine nächste Wildkräuterführung statt. Geht 
 mit mir in einer kleinen Gruppe von max. 12 Personen auf eine spannende Ex
 kursion in Falkensee oder Umgebung und sammelt mit mir gemeinsam aktuell w
 achsende Wildpflanzen. Auf meiner Führung erläutere ich Euch wieder aktu
 ell wachsende Wildkräuter und auch deren Wirkungen und Heilkräfte. Pro P
 erson wird ein Unkostenbeitrag von 12\,00 Euro erhoben. Um eine Anmeldung
  über diese WEB Seite (weiter unten) oder eine telefonische Anmeldung wir
 d gebeten (03322 426639)\n\nIch freue mich auf Dich / Sie.\nEs grüßt Dic
 h / Euch die Kräuter Fee Tina (geprüfte Kräuterpädagogin)\nP.S.: Es wi
 rd empfohlen eine Lupe und Getränke im Gepäck zu haben. Bei all meinen V
 eranstaltungen ist eine (dem Wetter) angepasste Kleidung\, festes Schuhwer
 k und Beinschutz ratsam\, weil die Exkursion bei jedem Wetter stattfindet 
 und auch manchmal in ein unwegsames Gelände führt.\n\nTreffpunkt: Am Tra
 fo-Haus in der Storchenstraße / Ecke Poetenweg gegenüber von Edmond`s Li
 teraturcafe Hexenhaus in Falkensee\n\nACHTUNG: Die Treffpunkte können eve
 ntuell auch noch variieren und werden bei Anmeldung bekannt gegeben. Daher
  bitte unbedingt hier auf der WEB Seite anmelden oder ruft mich einfach an
 .\n\nWeitere Termine in 2015:\n\n	10. Okt. 2015\n\nWeitere Wildkräuterfü
 hrungen sind auf Anfrage möglich.
CATEGORIES:Kräuterführung,Natur,Workshops
LOCATION:Trafostation Hexenhaus (Falkensee Finkenkrug)\, Poetenweg 95\, Fal
 kensee\, Brandenburg\, 14612\, Havelland\, Deutschland
GEO:52.556072;13.047592
X-APPLE-STRUCTURED-LOCATION;VALUE=URI;X-ADDRESS=Poetenweg 95\, Falkensee\, 
 Brandenburg\, 14612\, Havelland\, Deutschland;X-APPLE-RADIUS=100;X-TITLE=T
 rafostation Hexenhaus (Falkensee Finkenkrug):geo:52.556072,13.047592
END:VEVENT
BEGIN:VTIMEZONE
TZID:Europe/Berlin
X-LIC-LOCATION:Europe/Berlin
BEGIN:DAYLIGHT
DTSTART:20150329T030000
TZOFFSETFROM:+0100
TZOFFSETTO:+0200
TZNAME:CEST
END:DAYLIGHT
END:VTIMEZONE
END:VCALENDAR