BEGIN:VCALENDAR
VERSION:2.0
PRODID:-//wp-events-plugin.com//7.2.3.1//EN
BEGIN:VEVENT
UID:47@kraeuterfeetina.de
DTSTART;TZID=Europe/Berlin:20170902T100000
DTEND;TZID=Europe/Berlin:20170902T123000
DTSTAMP:20170115T105929Z
URL:https://www.kraeuterfeetina.de/events/wildkraeuterfuehrung-september-2
 017-weissdorn/
SUMMARY:Wildkräuterführung September 2017 (Weißdorn)
DESCRIPTION:Weißdorn\nAm Sonnabend\, den 02.09.2017 von 10:00h - ca. 12:30
 h\, findet die nächste&nbsp\;Wildkräuterführung in 2017 statt.&nbsp\;In
  diesem Jahr stelle ich Euch die „Heilkräfte der Natur“ vor. Geht mit
  mir in einer kleinen Gruppe von max. 12 Personen auf eine spannende Exkur
 sion in Falkensee oder Umgebung und sammelt mit mir gemeinsam aktuell wach
 sende Wildpflanzen. Wie auch bei meinen anderen Wildkräuterführungen gib
 t es wieder viel zu entdecken und zu sammeln. Wir werden Pflanzen sammeln 
 und verarbeiten z.B. Tinkturen\, Heilöle\, Liköre. Also Körbchen\, Krä
 uterschere&nbsp\; und ggf. ein Gefäß nicht vergessen. Eine Lupe wäre au
 ch von Vorteil\, so dass ich Euch die Details der einzelnen Pflanzen zeige
 n und erläutern kann.\n\nAuf vielfachen Wunsch meiner Teilnehmer habe ich
  die Exkursionen um eine ½ Stunde verlängert. Pro Person wird ein Unkost
 enbeitrag von 14\,00 Euro erhoben.&nbsp\;Um eine Anmeldung über diese WEB
  Seite (weiter unten) oder eine telefonische Anmeldung (03322 426639) wird
  unbedingt gebeten.\n\nIch freue mich auf Dich / Sie.\nEs grüßt Dich / E
 uch die Kräuterfee Tina (Kräuterpädagogin)\n&nbsp\;\n\nTreffpunkt:&nbsp
 \;&nbsp\;Triftstraße /Ecke Rohrbecker Damm \, 14624 Dallgow-Döberitz &nb
 sp\; &nbsp\;(Achtung!! Die Treffpunkte bei den einzelnen Wildkräuterführ
 ungen variieren\, sind aber&nbsp\;alle in Falkensee und Umgebung)\n\nP.S.:
  &nbsp\;Bei all meinen Veranstaltungen ist eine (dem Wetter) angepasste Kl
 eidung\, festes Schuhwerk und Beinschutz ratsam\, weil die Exkursion bei j
 edem Wetter stattfindet und auch manchmal in ein unwegsames Gelände führ
 t.\n\n&nbsp\;\n\nWeitere Termine in 2017 .... jeweils von 10:00Uhr - 12:30
 Uhr:\n\n 	07. Oktober 2017\n\nWeitere Wildkräuterführungen sind auf Anfr
 age&nbsp\;möglich.
CATEGORIES:Gesundheit,Kräuterführung,Kräuterwanderung,Natur,Sammeln,Woh
 lbefinden
LOCATION:Rohrbecker Damm 82 - Ecke Triftstraße (Dallgow-Döberitz)\, Rohrb
 ecker Damm 82\, Dallgow-Döberitz\, Brandenburg\, 14624\, Deutschland
GEO:52.548307;13.038706
X-APPLE-STRUCTURED-LOCATION;VALUE=URI;X-ADDRESS=Rohrbecker Damm 82\, Dallgo
 w-Döberitz\, Brandenburg\, 14624\, Deutschland;X-APPLE-RADIUS=100;X-TITLE
 =Rohrbecker Damm 82 - Ecke Triftstraße (Dallgow-Döberitz):geo:52.548307,
 13.038706
END:VEVENT
BEGIN:VTIMEZONE
TZID:Europe/Berlin
X-LIC-LOCATION:Europe/Berlin
BEGIN:DAYLIGHT
DTSTART:20170326T030000
TZOFFSETFROM:+0100
TZOFFSETTO:+0200
TZNAME:CEST
END:DAYLIGHT
END:VTIMEZONE
END:VCALENDAR