BEGIN:VCALENDAR
VERSION:2.0
PRODID:-//wp-events-plugin.com//7.2.3.1//EN
BEGIN:VEVENT
UID:89@kraeuterfeetina.de
DTSTART;TZID=Europe/Berlin:20200705T100000
DTEND;TZID=Europe/Berlin:20200705T123000
DTSTAMP:20200614T115817Z
URL:https://www.kraeuterfeetina.de/events/wildkraeuterfuehrung-sommerzeit-
 juli-2020/
SUMMARY:Wildkräuterführung: Sommerzeit (Juli 2020)
DESCRIPTION:Die Natur erleben – sehen – fühlen - riechen – schmecken
 \n\nBlüten duften und leuchten um die Wette. Wildpflanzen lassen sich jet
 zt einfacher bestimmen. Nutze sie für Sirup\, Salate und Wildkräuterlimo
 nade.\n\nAm Sonntag\, den 05.07.2020 findet in der Zeit von 10:00 Uhr bis 
 12:30 Uhr eine Wildkräuterführung statt. Lernt mit mir die wertvollen Wi
 ldpflanzen unserer Region kennen. Entdecke die Delikatessen vom Wegesrand\
 , natürliche Heilmittel\, sowie außergewöhnliche Haushaltsanwendungen 
 – es wird wieder spannend. In kleinen Gruppen von max. 12 Personen erkun
 den wir die Schätze der Natur in und um Falkensee. Wir werden Pflanzen sa
 mmeln und gleich verarbeiten.\n\nBitte mitbringen: Körbchen oder Stofftas
 che\, Schere und ein leeres Marmeladenglas (Größe 200ml) Eine Lupe wäre
  von Vorteil\, so dass ich Euch die Details der einzelnen Pflanzen zeigen 
 und erläutern kann.\n\nUnkostenbeitrag pro Person 15\,-€ - Kinder (12 J
 ahre bis 16 Jahre) 7\,-€. Um eine Anmeldung über diese WEB Seite (siehe
  weiter unten) oder eine telefonische Abmeldung (03322 426639) wird unbedi
 ngt gebeten.\n\n(Achtung !!! Wildkräuter wachsen an unterschiedlichen Ort
 en\, deshalb können die Treffpunkte bei den einzelnen Exkursionen variier
 en\, sind aber alle in Falkensee und Umgebung)\n\nBei all meinen Veranstal
 tungen ist eine (dem Wetter) angepasste Kleidung\, festes Schuhwerk und Be
 inschutz ratsam\, weil die Exkursion bei jedem Wetter stattfindet und auch
  manchmal durch unwegsames Gelände führt.\n\nTreffpunkt: Bushaltestelle 
 „Falkensee\, Damsbrück“\, (Bus 651) (anzeigen)\n\nIch freue mich auf 
 Dich / Euch\n\nEs grüßt Dich / Euch die Kräuterfee Tina (Martina Bauer)
 \n\n&nbsp\;\n\nWeitere Termine in 2020:\n\n 	\n\n 	\n\n 	Sonntag\, 09.Augu
 st 2020\n 	Sonnabend\, 19.September 2020\n 	Sonntag\, 18.Oktober 2020\n\n\
 n\n\n\n&nbsp\;\n\nWeitere Wildkräuterführungen sind auf Anfrage&nbsp\;m
 öglich.
ATTACH;FMTTYPE=image/jpeg:https://www.kraeuterfeetina.de/wp-content/upload
 s/2018/01/KräuterFrühling-e1516383615826.png
CATEGORIES:Gesundheit,Kräuterführung,Kräuterwanderung,Natur,Sammeln,Woh
 lbefinden
LOCATION:Bushaltestelle „Falkensee\, Damsbrück“\, (Bus 651)\, Falkense
 er Straße\, Falkensee\, Brandenburg\, 14612\, Deutschland
X-APPLE-STRUCTURED-LOCATION;VALUE=URI;X-ADDRESS=Falkenseer Straße\, Falken
 see\, Brandenburg\, 14612\, Deutschland;X-APPLE-RADIUS=100;X-TITLE=Bushalt
 estelle „Falkensee\, Damsbrück“\, (Bus 651):geo:0,0
END:VEVENT
BEGIN:VTIMEZONE
TZID:Europe/Berlin
X-LIC-LOCATION:Europe/Berlin
BEGIN:DAYLIGHT
DTSTART:20200329T030000
TZOFFSETFROM:+0100
TZOFFSETTO:+0200
TZNAME:CEST
END:DAYLIGHT
END:VTIMEZONE
END:VCALENDAR