BEGIN:VCALENDAR
VERSION:2.0
PRODID:-//wp-events-plugin.com//7.2.3.1//EN
BEGIN:VEVENT
UID:92@kraeuterfeetina.de
DTSTART;TZID=Europe/Berlin:20200418T100000
DTEND;TZID=Europe/Berlin:20200418T123000
DTSTAMP:20200401T184447Z
URL:https://www.kraeuterfeetina.de/events/wildkraeuterfuehrungen-in-oberkr
 aemer-18-04-2020/
SUMMARY:Wildkräuterführungen in Oberkrämer (18.04.2020)
DESCRIPTION:Aufgrund der aktuellen CORONA Situation ist für die Wildkräut
 erwanderung am 17./18.04.2020 keine Buchung möglich.\n\n#WirBleibenZuHaus
 e&nbsp\; #BleibGesund&nbsp\; #Wildkräuter&nbsp\; #KräuterfeeTina\n\n&nbs
 p\;\n\nDer April / Mai / Juni 2020 steht ganz im Zeichen der Wildkräuter 
 in und um Oberkrämer / Kremmen\, wo ich diverse Wildkräuterführungen ge
 meinsam mit der lokalen Tourismusinformation anbiete.&nbsp\;\n\n\nOriginal
 text Anbieter:\n\n\nDie Kräuterfee Tina* geht mit uns auf spannende Exkur
 sionen in Oberkrämer. Es werden aktuell wachsende Wildpflanzen gesammelt\
 , bestimmt und verarbeitet z.B. zu einer Kräuterbutter oder\neinem Wildkr
 äuterquark. Also Körbchen\, Kräuterschere und ggf. ein Gefäß nicht ve
 rgessen. Dauer jeweils ca. 2\,5 Stunden&nbsp\;\n\nTermine und Orte\nFreita
 g\, 17.04.20 um 16.30 Uhr - Mühlenseetour\nTreffpunkt Bockwindmühle Vehl
 efanz\n16727 Oberkrämer\, Lindenallee 71\n\nSamstag\, 18.04.20 um 10 Uhr 
 - Krämerwald\nTreffpunkt Parkplatz an der Waldbegegnungsstätte\n16727 Ob
 erkrämer\, Am Krämerwald\n\nSamstag\, 16.05.20 um 10 Uhr - Rund um Bäre
 nklau\nTreffpunkt Dorfkrug Bärenklau\n16727 Oberkrämer\, Remontehof 2\n\
 nSonntag\, 28.06.20 um 10 Uhr - Mühlenseetour\nTreffpunkt Bockwindmühle 
 Vehlefanz\n16727 Oberkrämer\, Lindenallee 71\n\nUnkostenbeitrag pro Führ
 ung 15\,00 €/Person (Kinder bis 13 J. kostenfrei\, 14-16 J. 7\,50 €)\n
 \nAnmeldung unter 03304-2061227 oder per Mail kontakt@kraemer-forst.de\n\n
 * Kräuterfee Tina alias Martina Bauer ist zertifzierte Kräuterpädagogin
 \, Fachkraf für Kräuter- &amp\; Gewürzkunde (IHK)\nInfos über die Krä
 uterfee unter https://www.kraeuterfeetina.de\nGerne könnt Ihr aber auch w
 eitere Informationen über mich erfragen\, allerdings geht eine Buchung nu
 r über den Krämer Forst.\n\nWeitere Informationen siehe auch Beitrag in 
 MAZ Online\n\nFlyer PDF Vorderseite&nbsp\; |&nbsp\; Flyer PDF Rückseite
ATTACH;FMTTYPE=image/jpeg:https://www.kraeuterfeetina.de/wp-content/upload
 s/2020/01/OberkraemerKremmenFront2020-scaled-e1580048111876.jpg
CATEGORIES:Kräuterführung,Kräuterwanderung,Natur,Wildpflanzen
END:VEVENT
BEGIN:VTIMEZONE
TZID:Europe/Berlin
X-LIC-LOCATION:Europe/Berlin
BEGIN:DAYLIGHT
DTSTART:20200329T030000
TZOFFSETFROM:+0100
TZOFFSETTO:+0200
TZNAME:CEST
END:DAYLIGHT
END:VTIMEZONE
END:VCALENDAR