BEGIN:VCALENDAR
VERSION:2.0
PRODID:-//wp-events-plugin.com//7.2.3.1//EN
BEGIN:VEVENT
UID:38@kraeuterfeetina.de
DTSTART;TZID=Europe/Berlin:20171014T100000
DTEND;TZID=Europe/Berlin:20171014T130000
DTSTAMP:20170917T100626Z
URL:https://www.kraeuterfeetina.de/events/workshop-essig-oele-e20/
SUMMARY:Workshop: Essig & Öle (E20)
DESCRIPTION:Man findet sie in den Supermarkt-Regalen: Essig &amp\; Öle&nbs
 p\;in netten Glasflaschen.&nbsp\;Noch köstlicher und zudem auf Eure Wüns
 che abgestimmt sind selbst gemachte Kräuter-Essig und Kräuter-Öle.\n\nD
 as Besondere an diesen Essig und Ölen ist\, das sie sehr gesund sind. Dur
 ch den Essig oder das Öl werden die Kräuter konserviert und behalten so 
 ihr Aussehen. Sie sind ein echter Hingucker in jeder Küche und ein belieb
 tes Mitbringsel bei Einladungen. Durch das lange durchziehen in Essig oder
  Öl geben die Kräuter Geschmack\, Geruch und auch gesunde Wirkstoffe ab.
  Mit Wildkräutern und einigen Gartenkräutern werden wir gemeinsam ein Wi
 esen-Essig und ein Wildkräuter-Öl herstellen. Außerdem beschäftigen wi
 r uns mit den wichtigsten Wirkstoffen der Kräuter.\n\nDer Preis des Works
 hops beträgt pro Person 37\,00 Euro inkl. Materialkosten\, Rezepte und ei
 nem kleinen Imbiss. Die Bezahlung erfolgt i.d.R. vor dem Workshop per Übe
 rweisung. Eine Rechnung inkl. Bankverbindung wird rechtzeitig vorab bereit
  gestellt. (Bezahlung in Ausnahmefällen auch vor Ort möglich)\n\nDer Kur
 s hat eine Mindestteilnehmeranzahl von 5 bis maximal 10 Personen. Daher is
 t eine Anmeldung über meine WEB Seite (nutzt bitte die Buchungsfunktion) 
 oder telefonisch unter 03322 426639 oder per eMail info[at]kraeuterfeetina
 .de&nbsp\;unbedingt erforderlich!&nbsp\;Eine Anmeldung ist wichtig\, weil 
 nur dann kann ich Euch über Änderungen in der Planung (Treffpunkt / Zeit
 punkt / Verschiebungen / ....) zeitnah informieren. Eine Anmeldung ist ver
 bindlich.\n\nDa es sich bei meinen Materialien zum größten Teil um Wildp
 flanzen handelt sind Änderungen vorbehalten. Bei Fragen könnt Ihr mich u
 nter den angegeben Kontaktdaten erreichen.\n\nBei all meinen Workshops ver
 wende ich nur hochwertige und zum Teil biozertifizierte Produkte.\n\nHaftu
 ng:\n\nAlle meine Hinweise zu Inhaltsstoffen und Wirkungen von Pflanzen im
  Rahmen meiner Veranstaltungen dienen ausschließlich der Information und 
 ersetzt nicht den Arztbesuch. Ich übernehme keine Garantie oder Haftung f
 ür die genannten Anwendungsmöglichkeiten. Der Verzehr der Pflanzen\, bzw
 . die Anwendung der hergestellten Produkte liegt in der Verantwortung der 
 Teilnehmer.
CATEGORIES:Kochen,Natur,Sammeln,Wohlbefinden,Workshops
LOCATION:Bürgerhaus Falkensee Finkenkrug\, Feuerbachstraße 23\, Falkensee
 \, Brandenburg\, 14612\, Havelland\, Deutschland
GEO:52.56596;13.04398
X-APPLE-STRUCTURED-LOCATION;VALUE=URI;X-ADDRESS=Feuerbachstraße 23\, Falke
 nsee\, Brandenburg\, 14612\, Havelland\, Deutschland;X-APPLE-RADIUS=100;X-
 TITLE=Bürgerhaus Falkensee Finkenkrug:geo:52.56596,13.04398
END:VEVENT
BEGIN:VTIMEZONE
TZID:Europe/Berlin
X-LIC-LOCATION:Europe/Berlin
BEGIN:DAYLIGHT
DTSTART:20170326T030000
TZOFFSETFROM:+0100
TZOFFSETTO:+0200
TZNAME:CEST
END:DAYLIGHT
END:VTIMEZONE
END:VCALENDAR