BEGIN:VCALENDAR
VERSION:2.0
PRODID:-//wp-events-plugin.com//7.2.3.1//EN
BEGIN:VEVENT
UID:36@kraeuterfeetina.de
DTSTART;TZID=Europe/Berlin:20170429T090000
DTEND;TZID=Europe/Berlin:20170429T133000
DTSTAMP:20170421T200503Z
URL:https://www.kraeuterfeetina.de/events/workshop-fruehjahrskueche-e18/
SUMMARY:Workshop: Frühjahrsküche (E18)
DESCRIPTION:Essbare Wildpflanzen findet man das ganze Jahr über. Sie gedei
 hen ohne menschliches Zutun und werden uns von der Natur geschenkt. Wildkr
 äuter sind das i-Tüpfelchen bei jedem Gericht\, sie verzaubern mit einem
  leichten bis herben Aroma und geben dem Ganzen den besonderen Pfiff und g
 anz nebenbei verbessern sie auf Grund ihrer wertvollen Inhaltsstoffe auch 
 noch das Wohlbefinden. In einer zweistündigen Wildkräuterführung möcht
 e ich mit Euch diese Pflanzen sammeln (Bitte Sammelkorb und Schere mitbrin
 gen) und vorstellen. Wieder im Bürgerhaus angekommen werden die Wildpflan
 zen beim Kontrollieren noch einmal besprochen. Dann geht es an die Töpfe 
 und Pfannen. Beim gemeinsamen Essen bleibt sicherlich noch genügend Zeit 
 für ein nettes Gespräch über unsere grünen Freunde.\n\nDer Preis des W
 orkshops beträgt pro Person 40\,00 Euro inkl. Materialkosten\, Rezepte un
 d einem kleinen Imbiss. Die Bezahlung erfolgt i.d.R. vor dem Workshop per 
 Überweisung. Eine Rechnung inkl. Bankverbindung wird rechtzeitig vorab be
 reit gestellt. (Bezahlung in Ausnahmefällen auch vor Ort möglich)\n\nDer
  Kurs hat eine Mindestteilnehmeranzahl von 5 bis maximal 10 Personen. Dahe
 r ist eine Anmeldung über meine WEB Seite (nutzt bitte die Buchungsfunkti
 on) oder telefonisch unter 03322 426639 oder per eMail info[at]kraeuterfee
 tina.de&nbsp\;unbedingt erforderlich!&nbsp\;Eine Anmeldung ist wichtig\, w
 eil nur dann kann ich Euch über Änderungen in der Planung (Treffpunkt / 
 Zeitpunkt / Verschiebungen / ....) zeitnah informieren. Eine Anmeldung ist
  verbindlich.\n\nDa es sich bei meinen Materialien zum größten Teil um W
 ildpflanzen handelt sind Änderungen vorbehalten. Bei Fragen könnt Ihr mi
 ch unter den angegeben Kontaktdaten erreichen.\n\nBei all meinen Workshops
  verwende ich nur hochwertige und zum Teil biozertifizierte Produkte.\n\nH
 aftung:\n\nAlle meine Hinweise zu Inhaltsstoffen und Wirkungen von Pflanze
 n im Rahmen meiner Veranstaltungen dienen ausschließlich der Information 
 und ersetzt nicht den Arztbesuch. Ich übernehme keine Garantie oder Haftu
 ng für die genannten Anwendungsmöglichkeiten. Der Verzehr der Pflanzen\,
  bzw. die Anwendung der hergestellten Produkte liegt in der Verantwortung 
 der Teilnehmer.
ATTACH;FMTTYPE=image/jpeg:https://www.kraeuterfeetina.de/wp-content/upload
 s/2017/01/Süßkartoffelsalat-20160507_162109-2-e1485096946174.jpg
CATEGORIES:Kochen,Kosmetik,Natur,Sammeln,Wohlbefinden,Workshops
LOCATION:Bürgerhaus Falkensee Finkenkrug\, Feuerbachstraße 23\, Falkensee
 \, Brandenburg\, 14612\, Havelland\, Deutschland
GEO:52.56596;13.04398
X-APPLE-STRUCTURED-LOCATION;VALUE=URI;X-ADDRESS=Feuerbachstraße 23\, Falke
 nsee\, Brandenburg\, 14612\, Havelland\, Deutschland;X-APPLE-RADIUS=100;X-
 TITLE=Bürgerhaus Falkensee Finkenkrug:geo:52.56596,13.04398
END:VEVENT
BEGIN:VTIMEZONE
TZID:Europe/Berlin
X-LIC-LOCATION:Europe/Berlin
BEGIN:DAYLIGHT
DTSTART:20170326T030000
TZOFFSETFROM:+0100
TZOFFSETTO:+0200
TZNAME:CEST
END:DAYLIGHT
END:VTIMEZONE
END:VCALENDAR