BEGIN:VCALENDAR
VERSION:2.0
PRODID:-//wp-events-plugin.com//7.2.3.1//EN
BEGIN:VEVENT
UID:37@kraeuterfeetina.de
DTSTART;TZID=Europe/Berlin:20170916T100000
DTEND;TZID=Europe/Berlin:20170916T133000
DTSTAMP:20170122T170301Z
URL:https://www.kraeuterfeetina.de/events/workshop-hagebutten-e19/
SUMMARY:Workshop: Hagebutten (E19)
DESCRIPTION:Die Hagebutte kennen wir aus dem Kinderlied „Ein Männlein st
 eht im Walde…“ ihre vielen kleinen Kernchen mit den feine Härchen sin
 d bei den Kindern als „Juck-Pulver“ sehr beliebt. Die Heilwirkung dies
 er Frucht ist ausgesprochen groß den sie enthält neben Pektin\, Gerbstof
 fe\, Karotin\, Flavonoide und Fruchtsäuren jede Menge Vitamin C. Das gesa
 mte Paket stärkt unsere Abwehrkräfte.&nbsp\;Wir werden aus diesen roten 
 Früchten einige Rezepte zubereiten\, die etwas Zeit in Anspruch nehmen k
 önnen. Deshalb wäre ich sehr dankbar\, wenn einige von Euch ein paar Hag
 ebutten mitbringen können.\n\nDer Preis des Workshops beträgt pro Person
  37\,00 Euro inkl. Materialkosten\, Rezepte und einem kleinen Imbiss. Die 
 Bezahlung erfolgt i.d.R. vor dem Workshop per Überweisung. Eine Rechnung 
 inkl. Bankverbindung wird rechtzeitig vorab bereit gestellt. (Bezahlung in
  Ausnahmefällen auch vor Ort möglich)\n\nDer Kurs hat eine Mindestteilne
 hmeranzahl von 5 bis maximal 10 Personen. Daher ist eine Anmeldung über m
 eine WEB Seite (nutzt bitte die Buchungsfunktion) oder telefonisch unter 0
 3322 426639 oder per eMail info[at]kraeuterfeetina.de&nbsp\;unbedingt erfo
 rderlich!&nbsp\;Eine Anmeldung ist wichtig\, weil nur dann kann ich Euch 
 über Änderungen in der Planung (Treffpunkt / Zeitpunkt / Verschiebungen 
 / ....) zeitnah informieren. Eine Anmeldung ist verbindlich.\n\nDa es sich
  bei meinen Materialien zum größten Teil um Wildpflanzen handelt sind Ä
 nderungen vorbehalten. Bei Fragen könnt Ihr mich unter den angegeben Kont
 aktdaten erreichen.\n\nBei all meinen Workshops verwende ich nur hochwerti
 ge und zum Teil biozertifizierte Produkte.\n\nHaftung:\n\nAlle meine Hinwe
 ise zu Inhaltsstoffen und Wirkungen von Pflanzen im Rahmen meiner Veransta
 ltungen dienen ausschließlich der Information und ersetzt nicht den Arztb
 esuch. Ich übernehme keine Garantie oder Haftung für die genannten Anwen
 dungsmöglichkeiten. Der Verzehr der Pflanzen\, bzw. die Anwendung der her
 gestellten Produkte liegt in der Verantwortung der Teilnehmer.
ATTACH;FMTTYPE=image/jpeg:https://www.kraeuterfeetina.de/wp-content/upload
 s/2017/01/Hagebutte.jpg
CATEGORIES:Kochen,Kosmetik,Natur,Sammeln,Wohlbefinden,Workshops
LOCATION:Bürgerhaus Falkensee Finkenkrug\, Feuerbachstraße 23\, Falkensee
 \, Brandenburg\, 14612\, Havelland\, Deutschland
GEO:52.56596;13.04398
X-APPLE-STRUCTURED-LOCATION;VALUE=URI;X-ADDRESS=Feuerbachstraße 23\, Falke
 nsee\, Brandenburg\, 14612\, Havelland\, Deutschland;X-APPLE-RADIUS=100;X-
 TITLE=Bürgerhaus Falkensee Finkenkrug:geo:52.56596,13.04398
END:VEVENT
BEGIN:VTIMEZONE
TZID:Europe/Berlin
X-LIC-LOCATION:Europe/Berlin
BEGIN:DAYLIGHT
DTSTART:20170326T030000
TZOFFSETFROM:+0100
TZOFFSETTO:+0200
TZNAME:CEST
END:DAYLIGHT
END:VTIMEZONE
END:VCALENDAR