BEGIN:VCALENDAR
VERSION:2.0
PRODID:-//wp-events-plugin.com//7.2.3.1//EN
BEGIN:VEVENT
UID:35@kraeuterfeetina.de
DTSTART;TZID=Europe/Berlin:20170218T100000
DTEND;TZID=Europe/Berlin:20170218T130000
DTSTAMP:20170122T164146Z
URL:https://www.kraeuterfeetina.de/events/workshop-heilkraft-der-natur-e16
 /
SUMMARY:Workshop: Heilkraft der Natur (E16)
DESCRIPTION:Winterzeit – ist Erkältungszeit\n\nRettich\, Rosmarin\, Schl
 üsselblumen und Malve um nur einige zu nennen enthalten wertvolle Inhalts
 stoffe die zur Genesung beitragen können. Das wussten auch schon unsere V
 orfahren. Für sie waren die Pflanzen so wertvoll\, dass sie hauptsächlic
 h zu Heilzwecke verwendet wurden. In diesem Kurs möchte ich Euch einige w
 irkungsvolle\, von mir erprobte Mittelchen vorstellen.\n\nWir werden ein W
 inter-Bade-Salz\, einen Husten-Sirup und eine Erkältungssalbe herstellen.
  Zum anderen werde ich einen kleinen Räuchereinblick geben. Die Heilwirku
 ng der Pflanze bleibt auch bei Verräuchern bestehen. Oft kann eine schnel
 lere Wirkung erzielt werden\, weil der Rauch sofort in die Lungen geht.\n\
 nDer Preis des Workshops beträgt pro Person 37\,00 Euro inkl. Materialkos
 ten\, Rezepte und einem kleinen Imbiss. Die Bezahlung erfolgt i.d.R. vor d
 em Workshop per Überweisung. Eine Rechnung inkl. Bankverbindung wird rech
 tzeitig vorab bereit gestellt. (Bezahlung in Ausnahmefällen auch vor Ort 
 möglich)\n\nDer Kurs hat eine Mindestteilnehmeranzahl von 5 bis maximal 1
 0 Personen. Daher ist eine Anmeldung über meine WEB Seite (nutzt bitte di
 e Buchungsfunktion) oder telefonisch unter 03322 426639 oder per eMail inf
 o[at]kraeuterfeetina.de&nbsp\;unbedingt erforderlich!&nbsp\;Eine Anmeldung
  ist wichtig\, weil nur dann kann ich Euch über Änderungen in der Planun
 g (Treffpunkt / Zeitpunkt / Verschiebungen / ....) zeitnah informieren. Ei
 ne Anmeldung ist verbindlich.\n\nDa es sich bei meinen Materialien zum gr
 ößten Teil um Wildpflanzen handelt sind Änderungen vorbehalten. Bei Fra
 gen könnt Ihr mich unter den angegeben Kontaktdaten erreichen.\n\nBei all
  meinen Workshops verwende ich nur hochwertige und zum Teil biozertifizier
 te Produkte.\n\nHaftung:\n\nAlle meine Hinweise zu Inhaltsstoffen und Wirk
 ungen von Pflanzen im Rahmen meiner Veranstaltungen dienen ausschließlich
  der Information und ersetzt nicht den Arztbesuch. Ich übernehme keine Ga
 rantie oder Haftung für die genannten Anwendungsmöglichkeiten. Der Verze
 hr der Pflanzen\, bzw. die Anwendung der hergestellten Produkte liegt in d
 er Verantwortung der Teilnehmer.
ATTACH;FMTTYPE=image/jpeg:https://www.kraeuterfeetina.de/wp-content/upload
 s/2017/01/Heilkraft_der_Natur_Rettich_Sirup-e1485077905124.jpg
CATEGORIES:Gesundheit,Natur,Wohlbefinden,Workshops
LOCATION:Bürgerhaus Falkensee Finkenkrug\, Feuerbachstraße 23\, Falkensee
 \, Brandenburg\, 14612\, Havelland\, Deutschland
GEO:52.56596;13.04398
X-APPLE-STRUCTURED-LOCATION;VALUE=URI;X-ADDRESS=Feuerbachstraße 23\, Falke
 nsee\, Brandenburg\, 14612\, Havelland\, Deutschland;X-APPLE-RADIUS=100;X-
 TITLE=Bürgerhaus Falkensee Finkenkrug:geo:52.56596,13.04398
END:VEVENT
BEGIN:VTIMEZONE
TZID:Europe/Berlin
X-LIC-LOCATION:Europe/Berlin
BEGIN:STANDARD
DTSTART:20161030T020000
TZOFFSETFROM:+0200
TZOFFSETTO:+0100
TZNAME:CET
END:STANDARD
END:VTIMEZONE
END:VCALENDAR