BEGIN:VCALENDAR
VERSION:2.0
PRODID:-//wp-events-plugin.com//7.2.3.1//EN
BEGIN:VEVENT
UID:39@kraeuterfeetina.de
DTSTART;TZID=Europe/Berlin:20171111T100000
DTEND;TZID=Europe/Berlin:20171111T130000
DTSTAMP:20170921T114256Z
URL:https://www.kraeuterfeetina.de/events/workshop-raeucherkurs-e21/
SUMMARY:Workshop: Räucherkurs (E21)
DESCRIPTION:Das Verräuchern von Harzen und Kräutern hat schon eine lange 
 Tradition. In fast allen Kulturen auf der ganzen Welt wurde geräuchert un
 d waren ein fester Bestandteil bei Ritualen und Hochfesten. Oft wurden edl
 e Räucherungen\, wie z.B. Weihrauch\, den jeweiligen Göttern als Opferga
 be dargeboten\, mit denen man sie besänftigen oder Bittgebete an sie send
 en wollte. Räucherungen dienen noch heute als Unterstützung bei Gebeten\
 , bei Zauber- und Heilungszeremonien.\n\nDer Räucherkurs soll eine kleine
  Einführung in die Magie der Räucherkunde geben. Ihr habt die Gelegenhei
 t ein Räucherbündel mit einer oder aus verschiedenen Pflanzen herzustell
 en.&nbsp\;Es wird außerdem eine kleine Auswahl an Räucherwerk und -Zubeh
 ör zum Kauf angeboten.\n\nDer Preis des Workshops beträgt pro Person 37\
 ,00 Euro inkl. Materialkosten\, Rezepte und einem kleinen Imbiss. Die Beza
 hlung erfolgt i.d.R. vor dem Workshop per Überweisung. Eine Rechnung inkl
 . Bankverbindung wird rechtzeitig vorab bereit gestellt. (Bezahlung in Aus
 nahmefällen auch vor Ort möglich)\n\nDer Kurs hat eine Mindestteilnehmer
 anzahl von 5 bis maximal 10 Personen. Daher ist eine Anmeldung über meine
  WEB Seite (nutzt bitte die Buchungsfunktion) oder telefonisch unter 03322
  426639 oder per eMail info[at]kraeuterfeetina.de&nbsp\;unbedingt erforder
 lich!&nbsp\;Eine Anmeldung ist wichtig\, weil nur dann kann ich Euch über
  Änderungen in der Planung (Treffpunkt / Zeitpunkt / Verschiebungen / ...
 .) zeitnah informieren. Eine Anmeldung ist verbindlich.\n\nDa es sich bei 
 meinen Materialien zum größten Teil um Wildpflanzen handelt sind Änderu
 ngen vorbehalten. Bei Fragen könnt Ihr mich unter den angegeben Kontaktda
 ten erreichen.\n\nBei all meinen Workshops verwende ich nur hochwertige un
 d zum Teil biozertifizierte Produkte.\n\nHaftung:\n\nAlle meine Hinweise z
 u Inhaltsstoffen und Wirkungen von Pflanzen im Rahmen meiner Veranstaltung
 en dienen ausschließlich der Information und ersetzt nicht den Arztbesuch
 . Ich übernehme keine Garantie oder Haftung für die genannten Anwendungs
 möglichkeiten. Der Verzehr der Pflanzen\, bzw. die Anwendung der hergeste
 llten Produkte liegt in der Verantwortung der Teilnehmer.
CATEGORIES:Natur,Sammeln,Wohlbefinden,Workshops
LOCATION:Bürgerhaus Falkensee Finkenkrug\, Feuerbachstraße 23\, Falkensee
 \, Brandenburg\, 14612\, Havelland\, Deutschland
GEO:52.56596;13.04398
X-APPLE-STRUCTURED-LOCATION;VALUE=URI;X-ADDRESS=Feuerbachstraße 23\, Falke
 nsee\, Brandenburg\, 14612\, Havelland\, Deutschland;X-APPLE-RADIUS=100;X-
 TITLE=Bürgerhaus Falkensee Finkenkrug:geo:52.56596,13.04398
END:VEVENT
BEGIN:VTIMEZONE
TZID:Europe/Berlin
X-LIC-LOCATION:Europe/Berlin
BEGIN:STANDARD
DTSTART:20171029T020000
TZOFFSETFROM:+0200
TZOFFSETTO:+0100
TZNAME:CET
END:STANDARD
END:VTIMEZONE
END:VCALENDAR