BEGIN:VCALENDAR
VERSION:2.0
PRODID:-//wp-events-plugin.com//7.2.3.1//EN
BEGIN:VEVENT
UID:82@kraeuterfeetina.de
DTSTART;TZID=Europe/Berlin:20201219T100000
DTEND;TZID=Europe/Berlin:20201219T140000
DTSTAMP:20201213T171357Z
URL:https://www.kraeuterfeetina.de/events/workshop-spiritueller-raeucherku
 nde-zu-den-rauhnaechten-e37/
SUMMARY:Workshop: Spiritueller Räucherkunde zu den Rauhnächten (E37)
DESCRIPTION:Aufgrund von COVID-19 (Corona) wird der Workshop leider abgesag
 t.\n\nDas Verräuchern von Harzen und Kräutern hat schon eine lange Tradi
 tion. In fast allen Kulturen auf der ganzen Welt wurde geräuchert und war
 en ein fester Bestandteil bei Ritualen und Hochfesten. Oft wurden edle Rä
 ucherungen\, wie z. B. Weihrauch\, den jeweiligen Göttern als Opfergabe d
 argeboten\, mit denen man sie besänftigen oder Bittgebete an sie senden w
 ollte. Räucherungen dienen noch heute als Unterstützung bei Gebeten\, be
 i Zauber- und Heilungszeremonien.&nbsp\;Der Räucherkurs gibt euch eine Ei
 nführung in die Magie der Räucherkunde. Gerade zu den Rauhnächten. Ihr 
 stellt Eure eigene Räuchermischung\, Räucherkugeln und bindet Euer Räuc
 herbündel. \n\n\n\n19.Dezember von 10:00 bis ca.14:00 Uhr\n\nVeranstaltun
 gsort:\nBürgerhaus Finkenkrug (anzeigen)\nFeuerbachstraße 23\n14612 Falk
 ensee\nKursgebühr:\npro Person 40\,00 € / zzgl. 10\,-€ Verpflegung/Ma
 terial vor Ort\nImbiss\, Getränke sowie ausführliche Skripte sind inklus
 ive. Erstellte Produkte kann jede/r Teilnehmer/in mit nach Hause nehmen.\n
 Die Mindestteilnehmerzahl beträgt 6 Personen bis maximal 10 Personen. Um 
 eine Anmeldung über meine WEB Seite oder telefonisch wird gebeten! Bitte 
 beachtet meine AGB`s.&nbsp\;\n*Da es sich bei meinen Materialien zum grö
 ßten Teil um Wildpflanzen handelt\, sind Änderungen vorbehalten.\nBei Fr
 agen könnt Ihr mich unter info@kraeuterfeetina.de oder telefonisch unter 
 +49 3322 / 426639 (AB) erreichen.\nBei all meinen Seminaren verwende ich h
 ochwertige zum Teil bio-zertifizierte Produkte.\nHaftung:\nAlle meine Hinw
 eise zu Inhaltsstoffen und Wirkungen von Pflanzen im Rahmen meiner Veranst
 altungen dienen ausschließlich der Information und ersetzt nicht den Arzt
 besuch. Ich übernehme keine Garantie oder Haftung für die genannten Anwe
 ndungsmöglichkeiten. Der Verzehr der Pflanzen\, bzw. die Anwendung der he
 rgestellten Produkte liegt in der Verantwortung der Teilnehmer.
ATTACH;FMTTYPE=image/jpeg:https://www.kraeuterfeetina.de/wp-content/upload
 s/2020/01/Kraeuterfee_Tina_Workshop_Raeuchern.jpg
CATEGORIES:Gesundheit,Natur,Sammeln,Wildpflanzen,Workshops
LOCATION:Bürgerhaus Falkensee Finkenkrug\, Feuerbachstraße 23\, Falkensee
 \, Brandenburg\, 14612\, Havelland\, Deutschland
GEO:52.56596;13.04398
X-APPLE-STRUCTURED-LOCATION;VALUE=URI;X-ADDRESS=Feuerbachstraße 23\, Falke
 nsee\, Brandenburg\, 14612\, Havelland\, Deutschland;X-APPLE-RADIUS=100;X-
 TITLE=Bürgerhaus Falkensee Finkenkrug:geo:52.56596,13.04398
END:VEVENT
BEGIN:VTIMEZONE
TZID:Europe/Berlin
X-LIC-LOCATION:Europe/Berlin
BEGIN:STANDARD
DTSTART:20201025T020000
TZOFFSETFROM:+0200
TZOFFSETTO:+0100
TZNAME:CET
END:STANDARD
END:VTIMEZONE
END:VCALENDAR